BEGIN:VCALENDAR
VERSION:2.0
PRODID:SchoolNow
CALSCALE:GREGORIAN
BEGIN:VEVENT
UID:38ba033a-390c-11ed-aa78-0252cb21d9e5
DTSTAMP:20220920T175102Z
SUMMARY:NO SCHOOL
URL;VALUE=URI:https://www.sylvan.k12.ca.us/schools/mary-ann-sanders/calenda
 r/3418905/no-school
DTSTART:20221010T070000Z
DTEND:20221011T065900Z
END:VEVENT
END:VCALENDAR
