BEGIN:VCALENDAR
VERSION:2.0
PRODID:SchoolNow
CALSCALE:GREGORIAN
BEGIN:VEVENT
UID:18319a36-40ed-11ed-b8ff-0268e7ab54e3
DTSTAMP:20220930T182452Z
SUMMARY:PARENT PICNIC DAY
URL;VALUE=URI:https://www.sylvan.k12.ca.us/schools/mary-ann-sanders/calenda
 r/3465044/parent-picnid-day
DTSTART:20221007T183000Z
DTEND:20221007T201500Z
END:VEVENT
END:VCALENDAR
