BEGIN:VCALENDAR
VERSION:2.0
PRODID:SchoolNow
CALSCALE:GREGORIAN
BEGIN:VEVENT
UID:6d8dba88-5474-11ed-b315-0ad6ebb47107
DTSTAMP:20221025T153441Z
SUMMARY:JOB FAIR at District Office 3-6 pm
LOCATION:605 Sylvan Ave\, Modesto\, Ca 95350
URL;VALUE=URI:https://www.sylvan.k12.ca.us/schools/mary-ann-sanders/calenda
 r/3558637/job-fair
DTSTART;VALUE=DATE:20221027
DTEND;VALUE=DATE:20221028
END:VEVENT
END:VCALENDAR
