BEGIN:VCALENDAR
VERSION:2.0
PRODID:SchoolNow
CALSCALE:GREGORIAN
BEGIN:VEVENT
UID:cc1c014e-547a-11ed-838b-0eabffc821ad
DTSTAMP:20221025T153654Z
SUMMARY:TRUNK OR TREAT (School playground)
URL;VALUE=URI:https://www.sylvan.k12.ca.us/schools/mary-ann-sanders/calenda
 r/3559433/trunk-or-treat
DTSTART:20221029T000000Z
DTEND:20221029T020000Z
END:VEVENT
END:VCALENDAR
