BEGIN:VCALENDAR
VERSION:2.0
PRODID:SchoolNow
CALSCALE:GREGORIAN
BEGIN:VEVENT
UID:141bbdcc-547b-11ed-97d1-0e5cca04d64d
DTSTAMP:20221025T153831Z
SUMMARY:END OF TRIMESTER 1
URL;VALUE=URI:https://www.sylvan.k12.ca.us/schools/mary-ann-sanders/calenda
 r/3559434/end-of-trimester-1
DTSTART:20221028T153600Z
DTEND:20221028T163600Z
END:VEVENT
END:VCALENDAR
