BEGIN:VCALENDAR
VERSION:2.0
PRODID:SchoolNow
CALSCALE:GREGORIAN
BEGIN:VEVENT
UID:dc505126-547c-11ed-8317-02756ead5e11
DTSTAMP:20221025T155116Z
SUMMARY:HALLOWEEN - No costumes\, no face make up
URL;VALUE=URI:https://www.sylvan.k12.ca.us/schools/mary-ann-sanders/calenda
 r/3559437/halloween-no-costumes-no-face-make-up
DTSTART:20221031T154800Z
DTEND:20221031T164800Z
END:VEVENT
END:VCALENDAR
