BEGIN:VCALENDAR
VERSION:2.0
PRODID:SchoolNow
CALSCALE:GREGORIAN
BEGIN:VEVENT
UID:2551ba54-547d-11ed-a2df-0a8889aaaf8b
DTSTAMP:20221025T155319Z
SUMMARY:VETERAN'S DAY - No school
URL;VALUE=URI:https://www.sylvan.k12.ca.us/schools/mary-ann-sanders/calenda
 r/3559439/veterans-day-no-school
DTSTART:20221111T165200Z
DTEND:20221111T175200Z
END:VEVENT
END:VCALENDAR
