BEGIN:VCALENDAR
VERSION:2.0
PRODID:SchoolNow
CALSCALE:GREGORIAN
BEGIN:VEVENT
UID:b5e41882-7caf-11ed-9c94-0af8916d1207
DTSTAMP:20221215T193603Z
SUMMARY:SCHOOL IS BACK IN SESSION
URL;VALUE=URI:https://www.sylvan.k12.ca.us/schools/mary-ann-sanders/calenda
 r/3645335/school-is-back-in-session
DTSTART:20230109T193400Z
DTEND:20230109T203400Z
END:VEVENT
END:VCALENDAR
