BEGIN:VCALENDAR
VERSION:2.0
PRODID:SchoolNow
CALSCALE:GREGORIAN
BEGIN:VEVENT
UID:44cb4c00-9060-11ed-a655-0a803f7d77af
DTSTAMP:20230109T205746Z
SUMMARY:2023-2024 TK - 5 th GRADE REGISTRATION BEGINS
URL;VALUE=URI:https://www.sylvan.k12.ca.us/schools/mary-ann-sanders/calenda
 r/3661461/2023-2024-tk-5-th-grade-registration-begins
DTSTART:20230109T205600Z
DTEND:20230109T215600Z
END:VEVENT
END:VCALENDAR
