BEGIN:VCALENDAR
VERSION:2.0
PRODID:SchoolNow
CALSCALE:GREGORIAN
BEGIN:VEVENT
UID:670657ec-906f-11ed-9968-0299f93dce9d
DTSTAMP:20230109T224606Z
SUMMARY:CLASSIFIED JOB FAIR
URL;VALUE=URI:https://www.sylvan.k12.ca.us/schools/mary-ann-sanders/calenda
 r/3661568/classified-job-fair
DTSTART:20230119T230000Z
DTEND:20230120T020000Z
END:VEVENT
END:VCALENDAR
