BEGIN:VCALENDAR
VERSION:2.0
PRODID:SchoolNow
CALSCALE:GREGORIAN
BEGIN:VEVENT
UID:aa38ee7c-ad79-11ed-915a-0a0061a514dd
DTSTAMP:20230215T214307Z
SUMMARY:SPRING PICTURE DAY
URL;VALUE=URI:https://www.sylvan.k12.ca.us/schools/mary-ann-sanders/calenda
 r/3748708/spring-picture-day
DTSTART:20230307T214000Z
DTEND:20230307T224000Z
END:VEVENT
END:VCALENDAR
