BEGIN:VCALENDAR
VERSION:2.0
PRODID:SchoolNow
CALSCALE:GREGORIAN
BEGIN:VEVENT
UID:e9a505d2-b2f6-11ed-8d76-0a910b9f2e4d
DTSTAMP:20230222T212336Z
SUMMARY:READ ACROSS AMERICA DAY
URL;VALUE=URI:https://www.sylvan.k12.ca.us/schools/mary-ann-sanders/calenda
 r/3768314/read-across-america-day
DTSTART;VALUE=DATE:20230302
DTEND;VALUE=DATE:20230303
END:VEVENT
END:VCALENDAR
