BEGIN:VCALENDAR
VERSION:2.0
PRODID:SchoolNow
CALSCALE:GREGORIAN
BEGIN:VEVENT
UID:9a2a1cde-b46f-11ed-a07a-02e763373579
DTSTAMP:20230224T181813Z
SUMMARY:LITERACY NIGHT
URL;VALUE=URI:https://www.sylvan.k12.ca.us/schools/mary-ann-sanders/calenda
 r/3775880/literacy-night
DTSTART:20230310T013000Z
DTEND:20230310T030000Z
END:VEVENT
END:VCALENDAR
