BEGIN:VCALENDAR
VERSION:2.0
PRODID:SchoolNow
CALSCALE:GREGORIAN
BEGIN:VEVENT
UID:812d368a-dec2-11ed-83e2-0a016e9af0ef
DTSTAMP:20230502T163953Z
SUMMARY:PARENT PICNIC
URL;VALUE=URI:https://www.sylvan.k12.ca.us/schools/mary-ann-sanders/calenda
 r/4083069/parent-pic-nic
DTSTART:20230505T183000Z
DTEND:20230505T201500Z
END:VEVENT
END:VCALENDAR
