BEGIN:VCALENDAR
VERSION:2.0
PRODID:SchoolNow
CALSCALE:GREGORIAN
BEGIN:VEVENT
UID:cf923fdc-dec2-11ed-88df-02dffa517d7d
DTSTAMP:20230502T153532Z
SUMMARY:FREE FUNWORKS FAMILY NIGHT
URL;VALUE=URI:https://www.sylvan.k12.ca.us/schools/mary-ann-sanders/calenda
 r/4083072/pta-funworks-night
DTSTART:20230520T010000Z
DTEND:20230520T040000Z
END:VEVENT
END:VCALENDAR
