BEGIN:VCALENDAR
VERSION:2.0
PRODID:SchoolNow
CALSCALE:GREGORIAN
BEGIN:VEVENT
UID:3130e91a-dec7-11ed-9d08-0e96de5cd11d
DTSTAMP:20230419T153155Z
SUMMARY:LAST MINIMUM DAY WEDNESDAY
URL;VALUE=URI:https://www.sylvan.k12.ca.us/schools/mary-ann-sanders/calenda
 r/4084768/last-minimum-day-wednesday
DTSTART;VALUE=DATE:20230503
DTEND;VALUE=DATE:20230504
END:VEVENT
END:VCALENDAR
