BEGIN:VCALENDAR
VERSION:2.0
PRODID:SchoolNow
CALSCALE:GREGORIAN
BEGIN:VEVENT
UID:60a2312c-f4cf-11ed-941f-0ee906f514b9
DTSTAMP:20230517T162503Z
SUMMARY:SUMMER SCHOOL ACADEMY STARTS
URL;VALUE=URI:https://www.sylvan.k12.ca.us/schools/mary-ann-sanders/calenda
 r/4258099/summer-school-academy-starts
DTSTART;VALUE=DATE:20230601
DTEND;VALUE=DATE:20230602
END:VEVENT
END:VCALENDAR
