BEGIN:VCALENDAR
VERSION:2.0
PRODID:SchoolNow
CALSCALE:GREGORIAN
BEGIN:VEVENT
UID:7857f4aa-f4cf-11ed-8ebb-02eedbc85531
DTSTAMP:20230517T162543Z
SUMMARY:SUMMER SCHOOL ACADEMY ENDS
URL;VALUE=URI:https://www.sylvan.k12.ca.us/schools/mary-ann-sanders/calenda
 r/4258100/summer-school-academy-ends
DTSTART;VALUE=DATE:20230628
DTEND;VALUE=DATE:20230629
END:VEVENT
END:VCALENDAR
