BEGIN:VCALENDAR
VERSION:2.0
PRODID:SchoolNow
CALSCALE:GREGORIAN
BEGIN:VEVENT
UID:ad46ad30-f4d1-11ed-8ee6-0253324ec5a7
DTSTAMP:20230517T164345Z
SUMMARY:OFFICE CLOSED FOR THE SUMMER
URL;VALUE=URI:https://www.sylvan.k12.ca.us/schools/mary-ann-sanders/calenda
 r/4258103/office-closed-for-the-summer
DTSTART;VALUE=DATE:20230629
DTEND;VALUE=DATE:20230630
END:VEVENT
END:VCALENDAR
