BEGIN:VCALENDAR
VERSION:2.0
PRODID:SchoolNow
CALSCALE:GREGORIAN
BEGIN:VEVENT
UID:cdc09f94-f4d1-11ed-b9ab-02a4bdec8783
DTSTAMP:20230517T164225Z
SUMMARY:OFFICE OPENS FOR THE NEW SCHOOL YEAR
URL;VALUE=URI:https://www.sylvan.k12.ca.us/schools/mary-ann-sanders/calenda
 r/4258104/office-opens-for-the-new-school-year
DTSTART;VALUE=DATE:20230711
DTEND;VALUE=DATE:20230712
END:VEVENT
END:VCALENDAR
