BEGIN:VCALENDAR
VERSION:2.0
PRODID:SchoolNow
CALSCALE:GREGORIAN
BEGIN:VEVENT
UID:25d5c0f6-2afb-11ee-83b6-0a58a9feac02
DTSTAMP:20230725T150001Z
SUMMARY:MONDAY\, AUGUST 7 - FIRST DAY OF SCHOOL - Minimum day\, dismissal a
 t 1:40 pm
URL;VALUE=URI:https://www.sylvan.k12.ca.us/schools/mary-ann-sanders/calenda
 r/4520444/monday-august-7-first-day-of-school-minimum-day-dismissal-at-1-4
 0-pm
DTSTART;VALUE=DATE:20230807
DTEND;VALUE=DATE:20230808
END:VEVENT
END:VCALENDAR
