BEGIN:VCALENDAR
VERSION:2.0
PRODID:SchoolNow
CALSCALE:GREGORIAN
BEGIN:VEVENT
UID:a3f630ce-2afb-11ee-8953-0e31ad182ff7
DTSTAMP:20230725T145944Z
SUMMARY:BACK TO SCHOOL NIGHT - Minimum day\, dismissal at 1:40 pm
URL;VALUE=URI:https://www.sylvan.k12.ca.us/schools/mary-ann-sanders/calenda
 r/4520445/back-to-school-night
DTSTART:20230818T010000Z
DTEND:20230818T023000Z
END:VEVENT
END:VCALENDAR
