BEGIN:VCALENDAR
VERSION:2.0
PRODID:SchoolNow
CALSCALE:GREGORIAN
BEGIN:VEVENT
UID:2989a220-2afc-11ee-8327-0eeab2085a97
DTSTAMP:20230725T150141Z
SUMMARY:PARENT TEACHER CONFERENCES - Minimum days\, dismissal at 1:40 pm
URL;VALUE=URI:https://www.sylvan.k12.ca.us/schools/mary-ann-sanders/calenda
 r/4520452/parent-teacher-conferences-minimum-days-dismissal-at-1-40-pm
DTSTART:20231106T160000Z
DTEND:20231113T170000Z
END:VEVENT
END:VCALENDAR
