BEGIN:VCALENDAR
VERSION:2.0
PRODID:SchoolNow
CALSCALE:GREGORIAN
BEGIN:VEVENT
UID:4b03c2dc-2afc-11ee-8543-0a58a9feac02
DTSTAMP:20230725T150237Z
SUMMARY:VETERANS DAY - No school
URL;VALUE=URI:https://www.sylvan.k12.ca.us/schools/mary-ann-sanders/calenda
 r/4520456/veterans-day-no-school
DTSTART:20231110T160100Z
DTEND:20231110T170100Z
END:VEVENT
END:VCALENDAR
