BEGIN:VCALENDAR
VERSION:2.0
PRODID:SchoolNow
CALSCALE:GREGORIAN
BEGIN:VEVENT
UID:dcba3a44-2afc-11ee-bb41-0a58a9feac02
DTSTAMP:20230725T150641Z
SUMMARY:NO SCHOOL
URL;VALUE=URI:https://www.sylvan.k12.ca.us/schools/mary-ann-sanders/calenda
 r/4520461/no-school
DTSTART;VALUE=DATE:20231009
DTEND;VALUE=DATE:20231010
END:VEVENT
END:VCALENDAR
