BEGIN:VCALENDAR
VERSION:2.0
PRODID:SchoolNow
CALSCALE:GREGORIAN
BEGIN:VEVENT
UID:13b65ce4-2afd-11ee-8f0c-0200f67b5ca9
DTSTAMP:20230725T150814Z
SUMMARY:THANKSGIVING HOLIDAY - No school
URL;VALUE=URI:https://www.sylvan.k12.ca.us/schools/mary-ann-sanders/calenda
 r/4520462/thanksgiving-holiday-no-school
DTSTART:20231122T160700Z
DTEND:20231126T170700Z
END:VEVENT
END:VCALENDAR
