BEGIN:VCALENDAR
VERSION:2.0
PRODID:SchoolNow
CALSCALE:GREGORIAN
BEGIN:VEVENT
UID:8ea1b78c-2afd-11ee-bd3b-0a58a9feac02
DTSTAMP:20230725T151140Z
SUMMARY:WINTER BREAK - HAPPY HOLIDAYS!
URL;VALUE=URI:https://www.sylvan.k12.ca.us/schools/mary-ann-sanders/calenda
 r/4520465/winter-break-happy-holidays
DTSTART:20231216T160900Z
DTEND:20240107T170900Z
END:VEVENT
END:VCALENDAR
