BEGIN:VCALENDAR
VERSION:2.0
PRODID:SchoolNow
CALSCALE:GREGORIAN
BEGIN:VEVENT
UID:ad1fe918-2afd-11ee-9de8-025785257f43
DTSTAMP:20230725T151231Z
SUMMARY:MINIMUM DAY - dismissal at 1:40 pm
URL;VALUE=URI:https://www.sylvan.k12.ca.us/schools/mary-ann-sanders/calenda
 r/4520466/minimum-day-dismissal-at-1-40-pm
DTSTART:20231215T161100Z
DTEND:20231215T171100Z
END:VEVENT
END:VCALENDAR
