BEGIN:VCALENDAR
VERSION:2.0
PRODID:SchoolNow
CALSCALE:GREGORIAN
BEGIN:VEVENT
UID:e09b65c4-2afd-11ee-a101-0a1b37b45d4f
DTSTAMP:20231004T153804Z
SUMMARY:END OF TRIMESTER 1
URL;VALUE=URI:https://www.sylvan.k12.ca.us/schools/mary-ann-sanders/calenda
 r/4520468/end-of-trimester-1
DTSTART:20231027T070000Z
DTEND:20231028T065900Z
END:VEVENT
END:VCALENDAR
