BEGIN:VCALENDAR
VERSION:2.0
PRODID:SchoolNow
CALSCALE:GREGORIAN
BEGIN:VEVENT
UID:03a75a8c-2afe-11ee-8115-0eeab2085a97
DTSTAMP:20230725T151456Z
SUMMARY:MARTIN LUTHER KING HOLIDAY - No school
URL;VALUE=URI:https://www.sylvan.k12.ca.us/schools/mary-ann-sanders/calenda
 r/4520469/martin-luther-king-holiday-no-school
DTSTART;VALUE=DATE:20240115
DTEND;VALUE=DATE:20240116
END:VEVENT
END:VCALENDAR
