BEGIN:VCALENDAR
VERSION:2.0
PRODID:SchoolNow
CALSCALE:GREGORIAN
BEGIN:VEVENT
UID:54f23416-2afe-11ee-b2f0-0a58a9feac02
DTSTAMP:20230725T151713Z
SUMMARY:LINCOLN'S BIRTHDAY  - No school
URL;VALUE=URI:https://www.sylvan.k12.ca.us/schools/mary-ann-sanders/calenda
 r/4520471/lincolns-birthday-no-school
DTSTART;VALUE=DATE:20240212
DTEND;VALUE=DATE:20240213
END:VEVENT
END:VCALENDAR
