BEGIN:VCALENDAR
VERSION:2.0
PRODID:SchoolNow
CALSCALE:GREGORIAN
BEGIN:VEVENT
UID:cb2bdbbe-2afe-11ee-b4eb-0aa3ece2bbe7
DTSTAMP:20230725T152031Z
SUMMARY:PRESIDENTS DAY & WASHINGTON'S BIRTHDAY
URL;VALUE=URI:https://www.sylvan.k12.ca.us/schools/mary-ann-sanders/calenda
 r/4520477/presidents-day-washingtons-birthday
DTSTART;VALUE=DATE:20240219
DTEND;VALUE=DATE:20240220
END:VEVENT
END:VCALENDAR
