BEGIN:VCALENDAR
VERSION:2.0
PRODID:SchoolNow
CALSCALE:GREGORIAN
BEGIN:VEVENT
UID:f122780a-2afe-11ee-bd46-0eeab2085a97
DTSTAMP:20230725T152135Z
SUMMARY:PARENT TEACHER CONFERENCES - Minimum days\, dismissal at 1:40 pm
URL;VALUE=URI:https://www.sylvan.k12.ca.us/schools/mary-ann-sanders/calenda
 r/4520479/parent-teacher-conferences-minimum-days-dismissal-at-1-40-pm
DTSTART:20240305T162000Z
DTEND:20240307T172000Z
END:VEVENT
END:VCALENDAR
