BEGIN:VCALENDAR
VERSION:2.0
PRODID:SchoolNow
CALSCALE:GREGORIAN
BEGIN:VEVENT
UID:14034390-2aff-11ee-a208-0a58a9feac02
DTSTAMP:20230725T152233Z
SUMMARY:SPRING BREAK
URL;VALUE=URI:https://www.sylvan.k12.ca.us/schools/mary-ann-sanders/calenda
 r/4520482/spring-break
DTSTART:20240316T152100Z
DTEND:20240324T162100Z
END:VEVENT
END:VCALENDAR
