BEGIN:VCALENDAR
VERSION:2.0
PRODID:SchoolNow
CALSCALE:GREGORIAN
BEGIN:VEVENT
UID:38c59afc-2aff-11ee-b690-0200f67b5ca9
DTSTAMP:20230725T152335Z
SUMMARY:LAST DAY OF SCHOOL - Minimum day\, dismissal at 1:40 pm
URL;VALUE=URI:https://www.sylvan.k12.ca.us/schools/mary-ann-sanders/calenda
 r/4520483/last-day-of-school-minimum-day-dismissal-at-1-40-pm
DTSTART:20240524T152200Z
DTEND:20240524T162200Z
END:VEVENT
END:VCALENDAR
