BEGIN:VCALENDAR
VERSION:2.0
PRODID:SchoolNow
CALSCALE:GREGORIAN
BEGIN:VEVENT
UID:8d7e7136-2aff-11ee-b5e8-0a58a9feac02
DTSTAMP:20230725T152557Z
SUMMARY:MINIMUM DAY\, dismissal at 1:40 pm
URL;VALUE=URI:https://www.sylvan.k12.ca.us/schools/mary-ann-sanders/calenda
 r/4520485/minimum-day-dismissal-at-1-40-pm
DTSTART:20231121T162500Z
DTEND:20231121T172500Z
END:VEVENT
END:VCALENDAR
