BEGIN:VCALENDAR
VERSION:2.0
PRODID:SchoolNow
CALSCALE:GREGORIAN
BEGIN:VEVENT
UID:d7ae5ac0-2b0c-11ee-8e3f-0aa3ece2bbe7
DTSTAMP:20230725T170119Z
SUMMARY:END OF TRIMESTER 2
URL;VALUE=URI:https://www.sylvan.k12.ca.us/schools/mary-ann-sanders/calenda
 r/4520537/end-of-trimester-2
DTSTART:20240223T180000Z
DTEND:20240223T190000Z
END:VEVENT
END:VCALENDAR
