BEGIN:VCALENDAR
VERSION:2.0
PRODID:SchoolNow
CALSCALE:GREGORIAN
BEGIN:VEVENT
UID:f7338884-2b0c-11ee-a2c5-0200f67b5ca9
DTSTAMP:20230725T170158Z
SUMMARY:END OF TRIMESTER 3
URL;VALUE=URI:https://www.sylvan.k12.ca.us/schools/mary-ann-sanders/calenda
 r/4520538/end-of-trimester-3
DTSTART:20240524T170100Z
DTEND:20240524T180100Z
END:VEVENT
END:VCALENDAR
