BEGIN:VCALENDAR
VERSION:2.0
PRODID:SchoolNow
CALSCALE:GREGORIAN
BEGIN:VEVENT
UID:3466e950-4cdf-11ee-89de-0ec3d8880c3f
DTSTAMP:20230906T180003Z
SUMMARY:DANCE-A-THON
URL;VALUE=URI:https://www.sylvan.k12.ca.us/schools/mary-ann-sanders/calenda
 r/4689896/dance-a-thon
DTSTART:20230922T175900Z
DTEND:20230922T185900Z
END:VEVENT
END:VCALENDAR
