BEGIN:VCALENDAR
VERSION:2.0
PRODID:SchoolNow
CALSCALE:GREGORIAN
BEGIN:VEVENT
UID:750423c4-4cdf-11ee-a983-0a58a9feac02
DTSTAMP:20231002T210816Z
SUMMARY:PARENT PICNIC DAY
URL;VALUE=URI:https://www.sylvan.k12.ca.us/schools/mary-ann-sanders/calenda
 r/4689897/parent-picnic-day
DTSTART:20231006T183000Z
DTEND:20231006T201500Z
END:VEVENT
END:VCALENDAR
