BEGIN:VCALENDAR
VERSION:2.0
PRODID:SchoolNow
CALSCALE:GREGORIAN
BEGIN:VEVENT
UID:a608242a-4cdf-11ee-8992-0a58a9feac02
DTSTAMP:20231013T182513Z
SUMMARY:TRUNK OR TREAT
URL;VALUE=URI:https://www.sylvan.k12.ca.us/schools/mary-ann-sanders/calenda
 r/4689898/trunk-or-treat
DTSTART:20231027T180200Z
DTEND:20231027T190200Z
END:VEVENT
END:VCALENDAR
