BEGIN:VCALENDAR
VERSION:2.0
PRODID:SchoolNow
CALSCALE:GREGORIAN
BEGIN:VEVENT
UID:2b817d72-4ce0-11ee-ab6d-0a58a9feac02
DTSTAMP:20230906T180658Z
SUMMARY:JOG-A-THON
URL;VALUE=URI:https://www.sylvan.k12.ca.us/schools/mary-ann-sanders/calenda
 r/4689899/jog-a-thon
DTSTART:20240419T180600Z
DTEND:20240419T190600Z
END:VEVENT
END:VCALENDAR
