BEGIN:VCALENDAR
VERSION:2.0
PRODID:SchoolNow
CALSCALE:GREGORIAN
BEGIN:VEVENT
UID:e9a78c60-4ce0-11ee-b644-0a58a9feac02
DTSTAMP:20240425T163317Z
SUMMARY:SPRING PARENT PICNIC DAY
URL;VALUE=URI:https://www.sylvan.k12.ca.us/schools/mary-ann-sanders/calenda
 r/4689900/spring-parent-picnic-day
DTSTART:20240503T183000Z
DTEND:20240503T201500Z
END:VEVENT
END:VCALENDAR
