BEGIN:VCALENDAR
VERSION:2.0
PRODID:SchoolNow
CALSCALE:GREGORIAN
BEGIN:VEVENT
UID:053ff17e-4ce1-11ee-b369-0a58a9feac02
DTSTAMP:20240430T165111Z
SUMMARY:SANDERS FUNWORKS NIGHT sponsored by PTA
URL;VALUE=URI:https://www.sylvan.k12.ca.us/schools/mary-ann-sanders/calenda
 r/4689901/sanders-funworks-night
DTSTART:20240518T010000Z
DTEND:20240518T040000Z
END:VEVENT
END:VCALENDAR
