BEGIN:VCALENDAR
VERSION:2.0
PRODID:SchoolNow
CALSCALE:GREGORIAN
BEGIN:VEVENT
UID:eec6d9f6-d01d-11ee-a322-0e4c651137e1
DTSTAMP:20240220T182907Z
SUMMARY:LITERACY NIGHT & BOOK FAIR
URL;VALUE=URI:https://www.sylvan.k12.ca.us/schools/mary-ann-sanders/calenda
 r/5368431/literacy-night-book-fair
DTSTART:20240308T013000Z
DTEND:20240308T030000Z
END:VEVENT
END:VCALENDAR
