BEGIN:VCALENDAR
VERSION:2.0
PRODID:SchoolNow
CALSCALE:GREGORIAN
BEGIN:VEVENT
UID:93ddb99a-d038-11ee-a845-0a58a9feac02
DTSTAMP:20240220T213951Z
SUMMARY:LOVEMODESTO.COM
URL;VALUE=URI:https://www.sylvan.k12.ca.us/schools/mary-ann-sanders/calenda
 r/5368690/lovemodesto-com
DTSTART;VALUE=DATE:20240427
DTEND;VALUE=DATE:20240428
END:VEVENT
END:VCALENDAR
