BEGIN:VCALENDAR
VERSION:2.0
PRODID:SchoolNow
CALSCALE:GREGORIAN
BEGIN:VEVENT
UID:cf04f3c2-45ee-11ef-b82d-0e5bca4324e1
DTSTAMP:20241015T193627Z
SUMMARY:Parent Teacher Conferences
URL;VALUE=URI:https://www.sylvan.k12.ca.us/schools/mary-ann-sanders/calenda
 r/6282732/parent-teacher-conferences
DTSTART:20241104T174800Z
DTEND:20241108T184800Z
END:VEVENT
END:VCALENDAR
