BEGIN:VCALENDAR
VERSION:2.0
PRODID:SchoolNow
CALSCALE:GREGORIAN
BEGIN:VEVENT
UID:eb96f562-45ee-11ef-9dc4-0a58a9feac02
DTSTAMP:20240719T164952Z
SUMMARY:End of 1st Trimester
URL;VALUE=URI:https://www.sylvan.k12.ca.us/schools/mary-ann-sanders/calenda
 r/6282733/end-of-1st-trimester
DTSTART:20241101T164900Z
DTEND:20241101T174900Z
END:VEVENT
END:VCALENDAR
