BEGIN:VCALENDAR
VERSION:2.0
PRODID:SchoolNow
CALSCALE:GREGORIAN
BEGIN:VEVENT
UID:73285ac2-5a8d-11ef-868b-029b81c8cce9
DTSTAMP:20240814T223504Z
SUMMARY:MAKE UP PICTURE DAY
URL;VALUE=URI:https://www.sylvan.k12.ca.us/schools/mary-ann-sanders/calenda
 r/6403729/make-up-picture-day
DTSTART;VALUE=DATE:20240904
DTEND;VALUE=DATE:20240905
END:VEVENT
END:VCALENDAR
