BEGIN:VCALENDAR
VERSION:2.0
PRODID:SchoolNow
CALSCALE:GREGORIAN
BEGIN:VEVENT
UID:764bf916-5f42-11ef-a483-0a58a9feac02
DTSTAMP:20240820T222052Z
SUMMARY:PARENT PICNIC DAY
URL;VALUE=URI:https://www.sylvan.k12.ca.us/schools/mary-ann-sanders/calenda
 r/6434811/parent-picnic-day
DTSTART:20241018T183000Z
DTEND:20241018T201300Z
END:VEVENT
END:VCALENDAR
